BEGIN:VCALENDAR
VERSION:2.0
PRODID:-//SVP Sempach //NONSGML Events //EN
CALSCALE:GREGORIAN
X-WR-CALNAME:SVP Sempach
BEGIN:VEVENT
CREATED:20260412T093921Z
UID:850
DTEND:20260829T000000
DTSTART:20260829T000000
DTSTAMP:20260421T092023Z
LOCATION:Städli Sempach
DESCRIPTION:
SUMMARY:Städtlimärt Sempach
ORGANIZER:
URL;VALUE=URI:https://www.svp-sempach.ch/termine/staedtlimaert-sempach/
TRANSP:OPAQUE
END:VEVENT
END:VCALENDAR
