BEGIN:VCALENDAR
VERSION:2.0
PRODID:-//SVP Sempach //NONSGML Events //EN
CALSCALE:GREGORIAN
X-WR-CALNAME:SVP Sempach
BEGIN:VEVENT
CREATED:20260412T093406Z
UID:848
DTEND:20260709T190000
DTSTART:20260709T183000
DTSTAMP:20260421T090836Z
LOCATION:Wirtschaft Zur Schlacht
DESCRIPTION:
SUMMARY:Gedenkfeier Schlacht Sempach
ORGANIZER:
URL;VALUE=URI:https://www.svp-sempach.ch/termine/gedenkfeier-schlacht-sempach/
TRANSP:OPAQUE
END:VEVENT
END:VCALENDAR
